BEGIN:VCALENDAR
VERSION:2.0
PRODID:-//Tickets - Redhills Durham - ECPv6.15.17.1//NONSGML v1.0//EN
CALSCALE:GREGORIAN
METHOD:PUBLISH
X-WR-CALNAME:Tickets - Redhills Durham
X-ORIGINAL-URL:https://tickets.redhillsdurham.org
X-WR-CALDESC:Events for Tickets - Redhills Durham
REFRESH-INTERVAL;VALUE=DURATION:PT1H
X-Robots-Tag:noindex
X-PUBLISHED-TTL:PT1H
BEGIN:VTIMEZONE
TZID:Europe/London
BEGIN:DAYLIGHT
TZOFFSETFROM:+0000
TZOFFSETTO:+0100
TZNAME:BST
DTSTART:20250330T010000
END:DAYLIGHT
BEGIN:STANDARD
TZOFFSETFROM:+0100
TZOFFSETTO:+0000
TZNAME:GMT
DTSTART:20251026T010000
END:STANDARD
BEGIN:DAYLIGHT
TZOFFSETFROM:+0000
TZOFFSETTO:+0100
TZNAME:BST
DTSTART:20260329T010000
END:DAYLIGHT
BEGIN:STANDARD
TZOFFSETFROM:+0100
TZOFFSETTO:+0000
TZNAME:GMT
DTSTART:20261025T010000
END:STANDARD
BEGIN:DAYLIGHT
TZOFFSETFROM:+0000
TZOFFSETTO:+0100
TZNAME:BST
DTSTART:20270328T010000
END:DAYLIGHT
BEGIN:STANDARD
TZOFFSETFROM:+0100
TZOFFSETTO:+0000
TZNAME:GMT
DTSTART:20271031T010000
END:STANDARD
END:VTIMEZONE
BEGIN:VEVENT
DTSTART;TZID=Europe/London:20260407T120000
DTEND;TZID=Europe/London:20260407T133000
DTSTAMP:20260421T124258
CREATED:20260129T185534Z
LAST-MODIFIED:20260129T185534Z
UID:10000052-1775563200-1775568600@tickets.redhillsdurham.org
SUMMARY:Discover Redhills: Past\, Present and Future
DESCRIPTION:Redhills is back. Step inside this beautifully refurbished\, nationally important building with our new guided tours. \nExplore the extraordinary history of Redhills – a place where working-class community power helped shape Britain. Alongside its proud past\, discover how Redhills is being reimagined as a centre for culture\, learning and social action. \nOur tours showcase how the building is becoming a hub for a solidarity economy\, supporting local people\, skills and creativity. Redhills is rebuilding hope for the future. \nWhether you’re passionate about Durham’s coalfield heritage\, curious about social change\, or simply looking for a unique experience\, a Redhills tour offers a rare insight into the power of community and solidarity. \nBook your place now and be part of the next chapter in the story of Redhills. \nGroup bookings are welcome\, email admin@redhillsdurham.org for further information. \nTicket Pricing \nAt Redhills\, we want everyone to feel welcome — whatever their financial situation. That’s why most of our events use a flexible pricing system. \nFor these events\, you can choose from three ticket options: \n\nOpen Concession – If money’s tight\, choose this rate. No questions asked — we’re just glad you’re here.\nStandard – If you’re able\, we encourage you to choose this option. It helps support Redhills and the independent artists and companies we work with.\nSolidarity Price – If you can give a little more\, please consider this option. Each Solidarity ticket helps subsidise two Open Concession tickets\, opening the doors for more people to enjoy what Redhills has to offer.\n\nSimply pick the ticket that suits your budget and continue to checkout.
URL:https://tickets.redhillsdurham.org/event/discover-redhills-past-present-and-future-14/
LOCATION:Redhills Durham Miners Hall\, The Miners Hall\, Flass St\, Durham\, DH1 4BE\, United Kingdom
CATEGORIES:Tour
ATTACH;FMTTYPE=image/avif:https://tickets.redhillsdurham.org/wp-content/uploads/2025/11/PXL_20251118_102718972-EDIT-2-scaled-scaled-1.avif
GEO:54.7775466;-1.5860209
X-APPLE-STRUCTURED-LOCATION;VALUE=URI;X-ADDRESS=Redhills Durham Miners Hall The Miners Hall Flass St Durham DH1 4BE United Kingdom;X-APPLE-RADIUS=500;X-TITLE=The Miners Hall\, Flass St:geo:-1.5860209,54.7775466
END:VEVENT
BEGIN:VEVENT
DTSTART;TZID=Europe/London:20260408T183000
DTEND;TZID=Europe/London:20260408T203000
DTSTAMP:20260421T124258
CREATED:20260325T090147Z
LAST-MODIFIED:20260326T131249Z
UID:10000076-1775673000-1775680200@tickets.redhillsdurham.org
SUMMARY:Andy Willoughby: Writing from History (4 week course)
DESCRIPTION:Join us at Redhills\, Durham Miners’ Hall\, for a creative writing course shaped by the stories\, voices and legacy of the coalfield communities. Led by Redhills Writer in Residence\, Andy Willoughby\, this course invites you to explore writing as a way of connecting with the past and giving it new life. \nDrawing on the spaces\, stories\, and visual materials of Redhills\, you will create original work inspired by personal memories\, family histories and the wider social history of the Durham coalfield. Through poetry\, short fiction and dramatic monologue\, you’ll be supported to find your own voice and perspective within these shared histories.The course will culminate in an opportunity to share your work as part of a special event at Redhills in May—bringing new stories into the heart of this historic building. \nAndy Willoughby is an internationally recognised poet\, community playwright and creative facilitator with over 30 years’ teaching experience. \nThis is a four week course taking place on the following dates with a MAXIMUM of 14 attendees:  \n8th April \n15th April \n22nd April \n29th April \nAttendees should ideally be able to commit to attending every session.  \nEach session runs 6.30pm – 8.30pm at Redhills.  No previous experience is needed; suitable for ages 18 and up. \nRedhills bar will be open for refreshments and light snacks. \n  \nTicket Pricing \nAt Redhills\, we want everyone to feel welcome — whatever their financial situation. That’s why most of our events use a flexible pricing system.For these events\, you can choose from three ticket options: \n\nOpen Concession – If money’s tight\, choose this rate. No questions asked — we’re just glad you’re here.\nStandard – If you’re able\, we encourage you to choose this option. It helps support Redhills and the independent artists and companies we work with.\nSolidarity Price – If you can give a little more\, please consider this option. Each Solidarity ticket helps subsidise two Open Concession tickets\, opening the doors for more people to enjoy what Redhills has to offer.\n\nSimply pick the ticket that suits your budget and continue to checkout.
URL:https://tickets.redhillsdurham.org/event/andy-willoughby-writing-from-history-4-week-course/
LOCATION:Redhills Durham Miners Hall\, The Miners Hall\, Flass St\, Durham\, DH1 4BE\, United Kingdom
CATEGORIES:Creative Writing
ATTACH;FMTTYPE=image/png:https://tickets.redhillsdurham.org/wp-content/uploads/2026/03/Andy-Willoughby_cropped_processed_by_imagy.png
GEO:54.7775466;-1.5860209
X-APPLE-STRUCTURED-LOCATION;VALUE=URI;X-ADDRESS=Redhills Durham Miners Hall The Miners Hall Flass St Durham DH1 4BE United Kingdom;X-APPLE-RADIUS=500;X-TITLE=The Miners Hall\, Flass St:geo:-1.5860209,54.7775466
END:VEVENT
BEGIN:VEVENT
DTSTART;TZID=Europe/London:20260412T193000
DTEND;TZID=Europe/London:20260412T213000
DTSTAMP:20260421T124258
CREATED:20260319T173448Z
LAST-MODIFIED:20260319T173448Z
UID:10000071-1776022200-1776029400@tickets.redhillsdurham.org
SUMMARY:Souleymane's Story (12a)
DESCRIPTION:Durham Film Club @ Redhills Miners Hall\nSOULEYMANE’S STORY (12a)\nd. Boris Lojkine Fr 2024 \nSouleymane (Abou Sangare)\, is a recent immigrant from Guinea who has two days to prepare for a crucial asylum interview. He works illegally as a food delivery cyclist while being coached by a dubious social worker\, who provides him with a fabricated story to present to the authorities. Exploring themes of exploitation and moral dillemmas faced by those seeking a better life\, this tense and moving film won a Jury prize winner at Cannes…another one not to be missed!
URL:https://tickets.redhillsdurham.org/event/souleymanes-story-12a/
LOCATION:Redhills Durham Miners Hall\, The Miners Hall\, Flass St\, Durham\, DH1 4BE\, United Kingdom
CATEGORIES:Film
ATTACH;FMTTYPE=image/jpeg:https://tickets.redhillsdurham.org/wp-content/uploads/2026/03/maxresdefault.jpg
GEO:54.7775466;-1.5860209
X-APPLE-STRUCTURED-LOCATION;VALUE=URI;X-ADDRESS=Redhills Durham Miners Hall The Miners Hall Flass St Durham DH1 4BE United Kingdom;X-APPLE-RADIUS=500;X-TITLE=The Miners Hall\, Flass St:geo:-1.5860209,54.7775466
END:VEVENT
END:VCALENDAR